BEGIN:VCALENDAR
VERSION:2.0
PRODID:-//Brightside Training - ECPv6.0.0.1//NONSGML v1.0//EN
CALSCALE:GREGORIAN
METHOD:PUBLISH
X-WR-CALNAME:Brightside Training
X-ORIGINAL-URL:https://brightsidetraining.co.uk
X-WR-CALDESC:Events for Brightside Training
REFRESH-INTERVAL;VALUE=DURATION:PT1H
X-Robots-Tag:noindex
X-PUBLISHED-TTL:PT1H
BEGIN:VTIMEZONE
TZID:UTC
BEGIN:STANDARD
TZOFFSETFROM:+0000
TZOFFSETTO:+0000
TZNAME:UTC
DTSTART:20260101T000000
END:STANDARD
END:VTIMEZONE
BEGIN:VEVENT
DTSTART;TZID=UTC:20260209T090000
DTEND;TZID=UTC:20260211T180000
DTSTAMP:20260425T115816
CREATED:20251014T195016Z
LAST-MODIFIED:20251014T195016Z
UID:1314-1770627600-1770832800@brightsidetraining.co.uk
SUMMARY:Worcester SIA CCTV Training Course 3 Days Starting 9th February 2026
DESCRIPTION:With the increasing use of CCTV cameras in society\, taking our SIA CCTV Training Course will enable you to work in a variety of areas including sports grounds\, shopping centres\, office buildings and many other locations.  \nThis course is run over 3 days (9th\, 10th\, and 11th February 2026) and will be held in Worcester.  The course gives you a full understanding of the role of a security professional\, the legal aspects of CCTV monitoring and much more. \nWith an exceptionally high pass rate and professional\, experienced tutors\, what have you got to lose. Call now and book on your course or send us an email and we will get back to you.
URL:https://brightsidetraining.co.uk/book-a-course/worcester-sia-cctv-training-course-3-days-starting-9th-february-2026
LOCATION:King’s Security Training Room\, Lowesmoor Wharf\, Worcester
ORGANIZER;CN="Brightside%20Training":MAILTO:info@brightsidetraining.co.uk
END:VEVENT
END:VCALENDAR