BEGIN:VCALENDAR
VERSION:2.0
PRODID:-//Brightside Training - ECPv6.0.0.1//NONSGML v1.0//EN
CALSCALE:GREGORIAN
METHOD:PUBLISH
X-WR-CALNAME:Brightside Training
X-ORIGINAL-URL:https://brightsidetraining.co.uk
X-WR-CALDESC:Events for Brightside Training
REFRESH-INTERVAL;VALUE=DURATION:PT1H
X-Robots-Tag:noindex
X-PUBLISHED-TTL:PT1H
BEGIN:VTIMEZONE
TZID:UTC
BEGIN:STANDARD
TZOFFSETFROM:+0000
TZOFFSETTO:+0000
TZNAME:UTC
DTSTART:20260101T000000
END:STANDARD
END:VTIMEZONE
BEGIN:VEVENT
DTSTART;TZID=UTC:20260111T080000
DTEND;TZID=UTC:20260111T183000
DTSTAMP:20260425T115811
CREATED:20251207T130948Z
LAST-MODIFIED:20251207T130948Z
UID:1338-1768118400-1768156200@brightsidetraining.co.uk
SUMMARY:SIA Security Officer Refresher 1 Day Course 11th January 2026 Telford
DESCRIPTION:The SIA Security Officer Refresher course is for all existing SIA licence holders who would like to renew their licence.  The course covers new content to recognise the new risks and challenges faced by Security Officers. \nThe Refresher course is run over 1 day and will take place on Sunday 11th January 2026 in Telford. \nBefore attending the course you must have an Emergency First Aid at Work qualification or higher with at least 12 months before expiry.  If you do not have a valid first aid qualification we are also able to offer this training with the Top Up course as a package. \nWe have an exceptionally high first time pass rate and with professional\, experienced tutors\, what have you got to lose. Call now and book on your course or send us an email and we will get back to you.
URL:https://brightsidetraining.co.uk/book-a-course/sia-security-officer-refresher-1-day-course-11th-january-2026-telford
LOCATION:Telford United Football Club\, Watling Street\, Telford\, TF1 2TU
ORGANIZER;CN="Brightside%20Training":MAILTO:info@brightsidetraining.co.uk
END:VEVENT
BEGIN:VEVENT
DTSTART;TZID=UTC:20260112T083000
DTEND;TZID=UTC:20260116T183000
DTSTAMP:20260425T115811
CREATED:20251018T110903Z
LAST-MODIFIED:20251207T130240Z
UID:1318-1768206600-1768588200@brightsidetraining.co.uk
SUMMARY:Shrewsbury 6 Day Door Supervisor Course (First Aid Available) starting 12th January 2026
DESCRIPTION:With the SIA Door Supervisor Licence\, you can work in bars\, clubs\, pubs\, restaurants\, warehouses\, retail outlets\, shops\, shopping centres\, office buildings and many other places.  \nThis course will be run from Monday 12th January until Friday 16th January 2026 (exams will take place on 19th January) and will be held in Shrewsbury. \nYou can also add your First Aid and receive a discount when you combine both courses. \nWith an exceptionally high pass rate and professional\, experienced tutors\, what have you got to lose. Call now and book on your course or send us an email and we will get back to you.
URL:https://brightsidetraining.co.uk/book-a-course/sshrewsbury-6-day-door-supervisor-course-first-aid-available-starting-12th-january-2026
LOCATION:Theatre Severn\, Frankwell\, Shrewsbury\, SY3 8FT\, United Kingdom
ORGANIZER;CN="Brightside%20Training":MAILTO:info@brightsidetraining.co.uk
END:VEVENT
BEGIN:VEVENT
DTSTART;TZID=UTC:20260130T080000
DTEND;TZID=UTC:20260131T170000
DTSTAMP:20260425T115811
CREATED:20251207T130525Z
LAST-MODIFIED:20251207T130525Z
UID:1334-1769760000-1769878800@brightsidetraining.co.uk
SUMMARY:Worcester 2 Day SIA Door Supervisor Refresher Course 30th - 31th January 2026 (First Aid - 3 hours online e-learning and 4 hours classroom)
DESCRIPTION:The SIA Door Supervisor Refresher course is for all existing SIA licence holders who would like to renew their licence. Previously known as the “Top Up” course\, this revised course meets the SIA current standards\, and covers new content on Terror Threat Awareness\, Vulnerability Awareness (including spiking) and Physical Intervention techniques \nThe Refresher course is run over 2 days and will take place on Friday 30th January and Saturday 31st January in Worcester. \nBefore attending the course you must have an Emergency First Aid at Work qualification or higher with at least 12 months before expiry.  If you do not have a valid first aid qualification we are also able to offer this training with the Top Up course as a package.  \nWe have an exceptionally high first time pass rate and with professional\, experienced tutors\, what have you got to lose. Call now and book on your course or send us an email and we will get back to you.
URL:https://brightsidetraining.co.uk/book-a-course/worcester-2-day-sia-door-supervisor-refresher-course-30th-31th-january-2026-first-aid-3-hours-online-e-learning-and-4-hours-classroom
LOCATION:King’s Security Training Room\, Lowesmoor Wharf\, Worcester
ORGANIZER;CN="Brightside%20Training":MAILTO:info@brightsidetraining.co.uk
END:VEVENT
END:VCALENDAR