BEGIN:VCALENDAR
VERSION:2.0
PRODID:-//Brightside Training - ECPv6.0.0.1//NONSGML v1.0//EN
CALSCALE:GREGORIAN
METHOD:PUBLISH
X-WR-CALNAME:Brightside Training
X-ORIGINAL-URL:https://brightsidetraining.co.uk
X-WR-CALDESC:Events for Brightside Training
REFRESH-INTERVAL;VALUE=DURATION:PT1H
X-Robots-Tag:noindex
X-PUBLISHED-TTL:PT1H
BEGIN:VTIMEZONE
TZID:UTC
BEGIN:STANDARD
TZOFFSETFROM:+0000
TZOFFSETTO:+0000
TZNAME:UTC
DTSTART:20260101T000000
END:STANDARD
END:VTIMEZONE
BEGIN:VEVENT
DTSTART;TZID=UTC:20260427T083000
DTEND;TZID=UTC:20260502T183000
DTSTAMP:20260419T175155
CREATED:20260120T094528Z
LAST-MODIFIED:20260120T094528Z
UID:1366-1777278600-1777746600@brightsidetraining.co.uk
SUMMARY:Worcester 6 Day Door Supervisor Course (First Aid Available) starting 27th April 2026
DESCRIPTION:With the SIA Door Supervisor Licence\, you can work in bars\, clubs\, pubs\, restaurants\, warehouses\, retail outlets\, shops\, shopping centres\, office buildings and many other places.  \nThis course will be run from Monday 27th April 2026 until Saturday 2nd May 2026 and will be held in Worcester. \nYou can also add your First Aid and receive a discount when you combine both courses. \nWith an exceptionally high pass rate and professional\, experienced tutors\, what have you got to lose. Call now and book on your course or send us an email and we will get back to you.
URL:https://brightsidetraining.co.uk/book-a-course/worcester-6-day-door-supervisor-course-first-aid-available-starting-27th-april-2026
LOCATION:King’s Security Training Room\, Lowesmoor Wharf\, Worcester
ORGANIZER;CN="Brightside%20Training":MAILTO:info@brightsidetraining.co.uk
END:VEVENT
BEGIN:VEVENT
DTSTART;TZID=UTC:20260506T090000
DTEND;TZID=UTC:20260508T173000
DTSTAMP:20260419T175155
CREATED:20260122T184159Z
LAST-MODIFIED:20260122T184159Z
UID:1389-1778058000-1778261400@brightsidetraining.co.uk
SUMMARY:Worcester SIA CCTV Training Course 3 Days Starting 6th May 2026
DESCRIPTION:With the increasing use of CCTV cameras in society\, taking our SIA CCTV Training Course will enable you to work in a variety of areas including sports grounds\, shopping centres\, office buildings and many other locations.  \nThis course is run over 3 days (6th\, 7th and 8th May 2026) and will be held in Worcester.  The course gives you a full understanding of the role of a security professional\, the legal aspects of CCTV monitoring and much more. \nWith an exceptionally high pass rate and professional\, experienced tutors\, what have you got to lose. Call now and book on your course or send us an email and we will get back to you.
URL:https://brightsidetraining.co.uk/book-a-course/worcester-sia-cctv-training-course-3-days-starting-6th-may-2026
LOCATION:King’s Security Training Room\, Lowesmoor Wharf\, Worcester
ORGANIZER;CN="Brightside%20Training":MAILTO:info@brightsidetraining.co.uk
END:VEVENT
BEGIN:VEVENT
DTSTART;TZID=UTC:20260511T083000
DTEND;TZID=UTC:20260516T183000
DTSTAMP:20260419T175155
CREATED:20260125T164707Z
LAST-MODIFIED:20260125T164707Z
UID:1413-1778488200-1778956200@brightsidetraining.co.uk
SUMMARY:Telford 6 Day Door Supervisor Course (First Aid Available) starting 11th May 2026
DESCRIPTION:With the SIA Door Supervisor Licence\, you can work in bars\, clubs\, pubs\, restaurants\, warehouses\, retail outlets\, shops\, shopping centres\, office buildings and many other places.  \nThis course will be run from Monday 11th May until Saturday 16th May 2026 and will be held in Telford. \nYou can also add your First Aid and receive a discount when you combine both courses. \nWith an exceptionally high pass rate and professional\, experienced tutors\, what have you got to lose. Call now and book on your course or send us an email and we will get back to you.
URL:https://brightsidetraining.co.uk/book-a-course/telford-6-day-door-supervisor-course-first-aid-available-starting-11th-may-2026
LOCATION:Wellington Cricket Club\, Haygate Road\, Telford\, TF1 2BW
ORGANIZER;CN="Brightside%20Training":MAILTO:info@brightsidetraining.co.uk
END:VEVENT
BEGIN:VEVENT
DTSTART;TZID=UTC:20260516T083000
DTEND;TZID=UTC:20260517T183000
DTSTAMP:20260419T175155
CREATED:20260122T190506Z
LAST-MODIFIED:20260122T190506Z
UID:1396-1778920200-1779042600@brightsidetraining.co.uk
SUMMARY:Hereford 2 Day SIA Door Supervisor Refresher Course 16th May - 17th May 2026 (First Aid - 3 hours online e-learning and 4 hours classroom)
DESCRIPTION:The SIA Door Supervisor Refresher course is for all existing SIA licence holders who would like to renew their licence. Previously known as the “Top Up” course\, this revised course meets the SIA current standards\, and covers new content on Terror Threat Awareness\, Vulnerability Awareness (including spiking) and Physical Intervention techniques \nThe Refresher course is run over 2 days and will take place on Saturday 16th May and Sunday 17th May in Hereford. \nBefore attending the course you must have an Emergency First Aid at Work qualification or higher with at least 12 months before expiry.  If you do not have a valid first aid qualification we are also able to offer this training with the Top Up course as a package.  \nWe have an exceptionally high first time pass rate and with professional\, experienced tutors\, what have you got to lose. Call now and book on your course or send us an email and we will get back to you.
URL:https://brightsidetraining.co.uk/book-a-course/hereford-2-day-sia-door-supervisor-refresher-course-16th-may-17th-may-2026-first-aid-3-hours-online-e-learning-and-4-hours-classroom
ORGANIZER;CN="Brightside%20Training":MAILTO:info@brightsidetraining.co.uk
END:VEVENT
BEGIN:VEVENT
DTSTART;TZID=UTC:20260525T083000
DTEND;TZID=UTC:20260530T183000
DTSTAMP:20260419T175155
CREATED:20260122T190014Z
LAST-MODIFIED:20260122T190030Z
UID:1392-1779697800-1780165800@brightsidetraining.co.uk
SUMMARY:Hereford 6 Day Door Supervisor Course (First Aid Available) starting 25th May 2026
DESCRIPTION:With the SIA Door Supervisor Licence\, you can work in bars\, clubs\, pubs\, restaurants\, warehouses\, retail outlets\, shops\, shopping centres\, office buildings and many other places.  \nThis course will be run from Monday 25th May 2026 until Saturday 30th May 2026 and will be held in Hereford. \nYou can also add your First Aid and receive a discount when you combine both courses. \nWith an exceptionally high pass rate and professional\, experienced tutors\, what have you got to lose. Call now and book on your course or send us an email and we will get back to you.
URL:https://brightsidetraining.co.uk/book-a-course/hereford-6-day-door-supervisor-course-first-aid-available-starting-25th-may-2026
LOCATION:RKM Protection\, Unit 2a Wynnes Business Park\, Hereford\, HR6 0PX\, United Kingdom
ORGANIZER;CN="Brightside%20Training":MAILTO:info@brightsidetraining.co.uk
END:VEVENT
END:VCALENDAR